BEGIN:VCALENDAR
VERSION:2.0
PRODID:-//共育システム研究所 - ECPv6.15.17.1//NONSGML v1.0//EN
CALSCALE:GREGORIAN
METHOD:PUBLISH
X-WR-CALNAME:共育システム研究所
X-ORIGINAL-URL:https://annonlife.com
X-WR-CALDESC:共育システム研究所 のイベント
REFRESH-INTERVAL;VALUE=DURATION:PT1H
X-Robots-Tag:noindex
X-PUBLISHED-TTL:PT1H
BEGIN:VTIMEZONE
TZID:Asia/Tokyo
BEGIN:STANDARD
TZOFFSETFROM:+0900
TZOFFSETTO:+0900
TZNAME:JST
DTSTART:20250101T000000
END:STANDARD
END:VTIMEZONE
BEGIN:VEVENT
DTSTART;TZID=Asia/Tokyo:20260422T192000
DTEND;TZID=Asia/Tokyo:20260422T204000
DTSTAMP:20260426T052829
CREATED:20260318T235438Z
LAST-MODIFIED:20260319T001939Z
UID:481-1776885600-1776890400@annonlife.com
SUMMARY:15分で伝わるセミナー
DESCRIPTION:
URL:https://annonlife.com/event/15%e5%88%86%e3%81%a7%e4%bc%9d%e3%82%8f%e3%82%8b%e3%82%bb%e3%83%9f%e3%83%8a%e3%83%bc/
CATEGORIES:プレゼンテーション・話し方講座
END:VEVENT
END:VCALENDAR